BEGIN:VCALENDAR
VERSION:2.0
PRODID:-//Site de la ville de Comines//NONSGML kigkonsult.se iCalcreator 2.
 30.10//
CALSCALE:GREGORIAN
METHOD:PUBLISH
UID:e0648157-12bb-4869-91d5-3da736cc6dcf
X-WR-CALNAME:iCagenda
X-WR-CALDESC:Event Management Extension for Joomla!
X-WR-RELCALID:3E26604A-50F4-4449-8B3E-E4F4932D05B5
X-WR-TIMEZONE:Europe/Paris
BEGIN:VTIMEZONE
TZID:Europe/Paris
BEGIN:STANDARD
TZNAME:CET
DTSTART:20251026T030000
TZOFFSETFROM:+0200
TZOFFSETTO:+0100
RDATE:20261025T030000
RDATE:20271031T030000
END:STANDARD
BEGIN:DAYLIGHT
TZNAME:CEST
DTSTART:20260329T020000
TZOFFSETFROM:+0100
TZOFFSETTO:+0200
RDATE:20270328T020000
END:DAYLIGHT
END:VTIMEZONE
BEGIN:VEVENT
UID:d2ff30e7-dbcc-47eb-af76-ab67eee300fe
DTSTAMP:20260423T025034Z
CATEGORIES:Concert Musique
CLASS:PUBLIC
DESCRIPTION;ALTREP="CID:<FFFF__=0ABBE548DFE235B58f9e8a93d@coffeebean.com>":
 L'Euphonie des Coquecigrues - Vendredi 19 juin à 20h - NautilysSavez-vous 
 d’où viennent les Coquecigrues\, ces oiseaux rares et méconnus ? Beaucoup 
 disent les avoir vues quitter la Lune dans un vol complexe et incongru. D’
 autres les ont vues nicher\, invisibles sur les faîtages de nos villes. Ma
 is aucun ne nous parle de leur chant. Et pourtant. Margaux Liénard\, conva
 incue de leur venue et de leur talent\, compose et écrit au détour d’un rê
 ve\, l’Euphonie des Coquecigrues\, une combinaison harmonieuse de sons et 
 de chansons entre folk domestiqué et baroque sauvage. Une œuvre originale 
 sur mesure pour voix\, archets et un Hardanger d’Amore\, drôle d’oiseau mi
 -harpe\, mi-violon. Envolées d’une fanfare imaginaire ou perchées sur un k
 iosque à danser\, les musiciennes se transforment au fil du spectacle et n
 ous emmènent dans un univers chimérique à l’image de la créature dont elle
 s nous parlent.\nAutour du spectacle&nbsp\;: Margaux Liénard rencontre pro
 fesseurs et élèves des classes de violon\, violoncelle et chant de l’École
  de musique municipale en amont du concert et les invite dans l’univers de
 s Coquecigrues pour préparer quelques morceaux à partager sur scène.\nRése
 rvation gratuite sur&nbsp\;Billetterie\nConcert en partenariat avec Le Fil
  et la Guinde dans le cadre du festival Bruits de Printemps.\nSing Sing - 
 Samedi 20 juin à 15h30 - Jardin public (Nautilys en cas de mauvais temps)&
 nbsp\;Blues\, early Jazz\, Folksongs &amp\; Cajun tunes\, c’est dans l’iné
 puisable vivier du delta du&nbsp\;Mississippi&nbsp\;des années trente et d
 ans le répertoire des folksingers qui disent l’Amérique des gens de peu qu
 e&nbsp\;Margaux&nbsp\;Lienard&nbsp\;&amp\; Julien Biget puisent leur inspi
 ration pour faire naître&nbsp\;« &nbsp\;Sing Sing ». En unissant deux voix
 \, un Hardanger d’amore (violon singulier) et une guitare slide\, les deux
  musiciens habillent leur blues d’une dentelle folk délicate\, et le trans
 portent dans un théâtre nouveau. Entrelacées de mélodies fines et de sonor
 ités presque baroques\, les chansons rugueuses de l’Amérique rurale se mét
 amorphosent\, mêlent leur sang à celui d’airs de danses issus des traditio
 ns populaires ou de l’imagination fertile du duo. Mais tout est là\, intac
 t : tranches de vie\, airs de fêtes\, amours perdues et joies retrouvées\,
  toutes les émotions d’un vague à l’âme intemporel.\nAutour du spectacle&n
 bsp\;: Les artistes rencontrent professeurs et élèves des classes de tromp
 ette et trombone de l’École de musique municipale en amont du concert et l
 es entraînent dans leur univers pour préparer quelques morceaux à partager
  sur scène.\nÉvènements gratuits&nbsp\;
DTSTART:20260619T180000Z
DTEND:20260621T150000Z
GEO:00;0
LOCATION:Nautilys et jardin public
ORGANIZER;CN=:musique@ville-comines.fr
SEQUENCE:1
SUMMARY:Fête de la musique
TRANSP:OPAQUE
URL:https://ville-comines.fr/decouvrir-la-ville/agenda/954-fete-de-la-musiq
 ue-4
END:VEVENT
END:VCALENDAR
