BEGIN:VCALENDAR
VERSION:2.0
PRODID:-//Site de la ville de Comines//NONSGML kigkonsult.se iCalcreator 2.
 30.10//
CALSCALE:GREGORIAN
METHOD:PUBLISH
UID:10266d39-44fd-4dc7-a35b-96a9e21b0c26
X-WR-CALNAME:iCagenda
X-WR-CALDESC:Event Management Extension for Joomla!
X-WR-RELCALID:3E26604A-50F4-4449-8B3E-E4F4932D05B5
X-WR-TIMEZONE:Europe/Paris
BEGIN:VTIMEZONE
TZID:Europe/Paris
BEGIN:STANDARD
TZNAME:CET
DTSTART:20251026T030000
TZOFFSETFROM:+0200
TZOFFSETTO:+0100
RDATE:20261025T030000
RDATE:20271031T030000
END:STANDARD
BEGIN:DAYLIGHT
TZNAME:CEST
DTSTART:20260329T020000
TZOFFSETFROM:+0100
TZOFFSETTO:+0200
RDATE:20270328T020000
END:DAYLIGHT
END:VTIMEZONE
BEGIN:VEVENT
UID:b9bb300a-620b-47ed-a4b2-d870f3392561
DTSTAMP:20260423T024002Z
CATEGORIES:Concert Musique
CLASS:PUBLIC
DESCRIPTION;ALTREP="CID:<FFFF__=0ABBE548DFE235B58f9e8a93d@coffeebean.com>":
 Indeed - 19h Indeed revendique un son où se mêlent pop énergique et rock i
 nspiré des années 70 à 90. Le groupe joue&nbsp\;en présent\, en vrai\, en 
 live : des arrangements précis\, un son chaleureux\, un plaisir évident d’
 être ensemble… et une authenticité qui s’entend autant qu’elle se voit.Le 
 résultat ?Un set&nbsp\;cohérent\, puissant\, élégant\, sauvage\, qui fait 
 danser\, réfléchir\, vibrer et surtout qui rassemble.\nDouble Dose - 20h30
  Dans la tradition des purs combos Blues\, Double dose s'est imposé depuis
  1992 comme un incontournable du genre avec son répertoire de compostions 
 et de reprises qui rendent hommage aux maîtres du genre tels Jimmy Reed\, 
 T.Bone Walker\, Albert Collins ou encore Willie Dixon. Plus de 300 concert
 s\, trois albums\, dont deux autoproduits\, des participations sur des com
 pilations régionales et nationales (Patrick Verbeke)\, des premières parti
 es prestigieuses\, Canned Heat\, Otis Grand\, Bill Thomas\, Blues and Trou
 ble\, Inmates\, Jimmy Dotson\, Monti Amundson\, etc... Après plus de dix a
 nnées d'existence\, le groupe s'est naturellement séparé\, et tous les mus
 iciens ont pris des directions artistiques différentes... 25 années plus t
 ard\, les voilà de retour\, quelques rides et quelques cheveux blancs en p
 lus\, une maturité musicale accomplie\, et surtout avec ce plaisir commun 
 et cette volonté farouche de dispenser leur « Blues &amp\; Groove » à qui 
 a l'âme bleue.\nGratuit sur réservation : Billetterie
DTSTART:20260529T163000Z
DTEND:20260529T163000Z
GEO:00;0
LOCATION:Nautilys
ORGANIZER;CN=:musique@ville-comines.fr
SEQUENCE:1
SUMMARY:Concert : Indeed + Double Dose
TRANSP:OPAQUE
URL:https://ville-comines.fr/decouvrir-la-ville/agenda/953-concert-indeed-d
 ouble-dose/2026-05-29-18-30
END:VEVENT
END:VCALENDAR
