BEGIN:VCALENDAR
VERSION:2.0
PRODID:-//Site de la ville de Comines//NONSGML kigkonsult.se iCalcreator 2.
 30.10//
CALSCALE:GREGORIAN
METHOD:PUBLISH
UID:1d61f434-4756-46fa-b0f6-bd33de3233df
X-WR-CALNAME:iCagenda
X-WR-CALDESC:Event Management Extension for Joomla!
X-WR-RELCALID:3E26604A-50F4-4449-8B3E-E4F4932D05B5
X-WR-TIMEZONE:Europe/Paris
BEGIN:VTIMEZONE
TZID:Europe/Paris
BEGIN:STANDARD
TZNAME:CET
DTSTART:20251026T030000
TZOFFSETFROM:+0200
TZOFFSETTO:+0100
RDATE:20261025T030000
RDATE:20271031T030000
END:STANDARD
BEGIN:DAYLIGHT
TZNAME:CEST
DTSTART:20260329T020000
TZOFFSETFROM:+0100
TZOFFSETTO:+0200
RDATE:20270328T020000
END:DAYLIGHT
END:VTIMEZONE
BEGIN:VEVENT
UID:db25234a-50a1-4d5c-ad4f-74ed04523263
DTSTAMP:20260423T024729Z
CATEGORIES:Concert Musique
CLASS:PUBLIC
DESCRIPTION;ALTREP="CID:<FFFF__=0ABBE548DFE235B58f9e8a93d@coffeebean.com>":
 Zola... Pas comme Émile !!! (Face A)Cie Mantrap - Forbon N'Zakimuena\nZola
 ... Pas comme Émile!!!&nbsp\;est un diptyque récit/rap\, imaginé\, écrit e
 t interprété par Forbon N’Zakimuena\, qui aborde la thématique de la natur
 alisation et de la francisation des prénoms d’enfants nés en France de par
 ents étrangers. À partir de sa trajectoire individuelle et de paroles docu
 mentaires collectées auprès d'adolescents et jeunes adultes entre 13 et 18
  ans\, Forbon tisse les dramaturgies de deux spectacles complémentaires\, 
 pareils à deux faces d’une même cassette audio\, l’une en salle&nbsp\;(Fac
 e A)\, l’autre en espace public&nbsp\;(Face B).Forbon proposera une lectur
 e du récit de cette Face A\, à&nbsp\;travers l'écriture d'une autofiction\
 , seul sur scène. Il déroulera le fil de son parcours administratif et&nbs
 p\;émotionnel emprunté&nbsp\;pour récupérer son prénom complet suite à sa 
 propre demande de naturalisation.\nAutour du spectacle&nbsp\;: Forbon N’Za
 kimuena propose des ateliers d’écriture de chansons aux élèves d’une class
 e du collège Philippe de Commynes. Ces créations sont dévoilées à l’issue 
 de la lecture-spectacle.\nConcert en partenariat avec Le Fil et la Guinde 
 dans le cadre du festival Bruits de Printemps.\nGratuit - À partir de 12 a
 ns\nRéservation sur&nbsp\;Billetterie
DTSTART:20260520T163000Z
DTEND:20260520T163000Z
GEO:00;0
LOCATION:Nautilys
ORGANIZER;CN=:musique@ville-comines.fr
SEQUENCE:1
SUMMARY:Concert rap et récit - Zola... Pas comme Émile !!! (Face A)
TRANSP:OPAQUE
URL:https://ville-comines.fr/decouvrir-la-ville/agenda/952-concert-rap-et-r
 ecit-zola-pas-comme-emile-face-a/2026-05-20-18-30
END:VEVENT
END:VCALENDAR
