BEGIN:VCALENDAR
VERSION:2.0
PRODID:-//Site de la ville de Comines//NONSGML kigkonsult.se iCalcreator 2.
 30.10//
CALSCALE:GREGORIAN
METHOD:PUBLISH
UID:786c126d-b189-44d2-bb5b-ec4074164265
X-WR-CALNAME:iCagenda
X-WR-CALDESC:Event Management Extension for Joomla!
X-WR-RELCALID:3E26604A-50F4-4449-8B3E-E4F4932D05B5
X-WR-TIMEZONE:Europe/Paris
BEGIN:VTIMEZONE
TZID:Europe/Paris
BEGIN:STANDARD
TZNAME:CET
DTSTART:20251026T030000
TZOFFSETFROM:+0200
TZOFFSETTO:+0100
RDATE:20261025T030000
RDATE:20271031T030000
END:STANDARD
BEGIN:DAYLIGHT
TZNAME:CEST
DTSTART:20260329T020000
TZOFFSETFROM:+0100
TZOFFSETTO:+0200
RDATE:20270328T020000
END:DAYLIGHT
END:VTIMEZONE
BEGIN:VEVENT
UID:c0ac2625-d127-4d20-852d-dc8a7d570f02
DTSTAMP:20260423T030525Z
CATEGORIES:Concert Musique
CLASS:PUBLIC
DESCRIPTION;ALTREP="CID:<FFFF__=0ABBE548DFE235B58f9e8a93d@coffeebean.com>":
 Découvrez le travail des élèves réalisé tout au long de l'année. Dans une 
 ambiance à la fois studieuse et bienveillante\, petits et grands partagent
  leur passion avec le public.
DTSTART:20260523T090000Z
DTEND:20260523T090000Z
GEO:00;0
LOCATION:Médiathèque Ducarin le 23 mai et 17 juin et jardin public le 20 ju
 in
ORGANIZER:
SEQUENCE:1
SUMMARY:Auditions de l'école de musique
TRANSP:OPAQUE
URL:https://ville-comines.fr/decouvrir-la-ville/agenda/950-auditions-de-lec
 ole-de-musique/2026-05-23-11-00
END:VEVENT
END:VCALENDAR
