BEGIN:VCALENDAR
VERSION:2.0
PRODID:-//Site de la ville de Comines//NONSGML kigkonsult.se iCalcreator 2.
 30.10//
CALSCALE:GREGORIAN
METHOD:PUBLISH
UID:03f13583-4f4d-4c48-b410-6f166707e47a
X-WR-CALNAME:iCagenda
X-WR-CALDESC:Event Management Extension for Joomla!
X-WR-RELCALID:3E26604A-50F4-4449-8B3E-E4F4932D05B5
X-WR-TIMEZONE:Europe/Paris
BEGIN:VTIMEZONE
TZID:Europe/Paris
BEGIN:STANDARD
TZNAME:CET
DTSTART:20251026T030000
TZOFFSETFROM:+0200
TZOFFSETTO:+0100
RDATE:20261025T030000
RDATE:20271031T030000
END:STANDARD
BEGIN:DAYLIGHT
TZNAME:CEST
DTSTART:20260329T020000
TZOFFSETFROM:+0100
TZOFFSETTO:+0200
RDATE:20270328T020000
END:DAYLIGHT
END:VTIMEZONE
BEGIN:VEVENT
UID:608597bc-d6f8-465d-9d56-ba53302fd955
DTSTAMP:20260420T123821Z
CATEGORIES:Loisirs
CLASS:PUBLIC
DESCRIPTION;ALTREP="CID:<FFFF__=0ABBE548DFE235B58f9e8a93d@coffeebean.com>":
 La médiathèque Ducarin vous accueille toute la journée pour jouer !\nAu pr
 ogramme :\nStructures gonflablesJeux d'estaminetJeux de société
DTSTART:20260530T080000Z
DTEND:20260530T170000Z
GEO:00;0
LOCATION:Médiathèque Ducarin
ORGANIZER:
SEQUENCE:1
SUMMARY:Fête mondiale du jeu
TRANSP:OPAQUE
URL:https://ville-comines.fr/decouvrir-la-ville/agenda/869-fete-mondiale-du
 -jeu-6
END:VEVENT
END:VCALENDAR
