BEGIN:VCALENDAR
VERSION:2.0
PRODID:-//Site de la ville de Comines//NONSGML kigkonsult.se iCalcreator 2.
 30.10//
CALSCALE:GREGORIAN
METHOD:PUBLISH
UID:4650b9ff-6a68-4dfb-af45-46b53a0f01f8
X-WR-CALNAME:iCagenda
X-WR-CALDESC:Event Management Extension for Joomla!
X-WR-RELCALID:3E26604A-50F4-4449-8B3E-E4F4932D05B5
X-WR-TIMEZONE:Europe/Paris
BEGIN:VTIMEZONE
TZID:Europe/Paris
BEGIN:STANDARD
TZNAME:CET
DTSTART:20241027T030000
TZOFFSETFROM:+0200
TZOFFSETTO:+0100
RDATE:20251026T030000
RDATE:20261025T030000
END:STANDARD
BEGIN:DAYLIGHT
TZNAME:CEST
DTSTART:20250330T020000
TZOFFSETFROM:+0100
TZOFFSETTO:+0200
RDATE:20260329T020000
END:DAYLIGHT
END:VTIMEZONE
BEGIN:VEVENT
UID:f8110e18-e275-4fc2-8e0b-7d50dc5fa1da
DTSTAMP:20260419T202252Z
CATEGORIES:Associations
CLASS:PUBLIC
DESCRIPTION:
DTSTART:20250622T110000Z
DTEND:20250622T180000Z
GEO:00;0
LOCATION:Salle Decottignies
ORGANIZER:
SEQUENCE:1
SUMMARY:Tournoi départemental jeune - Badminton Cominois
TRANSP:OPAQUE
URL:https://ville-comines.fr/decouvrir-la-ville/agenda/865-tournoi-departem
 ental-jeune-badminton-cominois
END:VEVENT
END:VCALENDAR
