BEGIN:VCALENDAR
VERSION:2.0
PRODID:-//Site de la ville de Comines//NONSGML kigkonsult.se iCalcreator 2.
 30.10//
CALSCALE:GREGORIAN
METHOD:PUBLISH
UID:6ff35116-d5a7-45fc-a960-b5e0a29ff5d6
X-WR-CALNAME:iCagenda
X-WR-CALDESC:Event Management Extension for Joomla!
X-WR-RELCALID:3E26604A-50F4-4449-8B3E-E4F4932D05B5
X-WR-TIMEZONE:Europe/Paris
BEGIN:VTIMEZONE
TZID:Europe/Paris
BEGIN:STANDARD
TZNAME:CET
DTSTART:20241027T030000
TZOFFSETFROM:+0200
TZOFFSETTO:+0100
RDATE:20251026T030000
END:STANDARD
BEGIN:DAYLIGHT
TZNAME:CEST
DTSTART:20240331T020000
TZOFFSETFROM:+0100
TZOFFSETTO:+0200
RDATE:20250330T020000
RDATE:20260329T020000
END:DAYLIGHT
END:VTIMEZONE
BEGIN:VEVENT
UID:4a3da355-6e1c-4aa7-8fbe-26d5cc1f496e
DTSTAMP:20260421T223932Z
CATEGORIES:Information
CLASS:PUBLIC
DESCRIPTION:
DTSTART:20250124T180000Z
DTEND:20250124T180000Z
GEO:00;0
LOCATION:Lys Arena
ORGANIZER:
SEQUENCE:1
SUMMARY:Cérémonie des vœux
TRANSP:OPAQUE
URL:https://ville-comines.fr/decouvrir-la-ville/agenda/813-ceremonie-des-vo
 eux/2025-01-24-19-00
END:VEVENT
END:VCALENDAR
