BEGIN:VCALENDAR
VERSION:2.0
PRODID:-//Site de la ville de Comines//NONSGML kigkonsult.se iCalcreator 2.
 30.10//
CALSCALE:GREGORIAN
METHOD:PUBLISH
UID:24b63449-1de3-494d-a0b0-de85f9ac8ea3
X-WR-CALNAME:iCagenda
X-WR-CALDESC:Event Management Extension for Joomla!
X-WR-RELCALID:3E26604A-50F4-4449-8B3E-E4F4932D05B5
X-WR-TIMEZONE:Europe/Paris
BEGIN:VTIMEZONE
TZID:Europe/Paris
BEGIN:STANDARD
TZNAME:CET
DTSTART:20231029T030000
TZOFFSETFROM:+0200
TZOFFSETTO:+0100
RDATE:20241027T030000
RDATE:20251026T030000
END:STANDARD
BEGIN:DAYLIGHT
TZNAME:CEST
DTSTART:20240331T020000
TZOFFSETFROM:+0100
TZOFFSETTO:+0200
RDATE:20250330T020000
END:DAYLIGHT
END:VTIMEZONE
BEGIN:VEVENT
UID:7acbe1bf-6fa5-43e2-8217-f7b493727785
DTSTAMP:20260421T081109Z
CATEGORIES:Loisirs
CLASS:PUBLIC
DESCRIPTION;ALTREP="CID:<FFFF__=0ABBE548DFE235B58f9e8a93d@coffeebean.com>":
 Les sorties natureMercredi 31 juillet de 14h à 16h&nbsp\;- Plantes et inse
 ctes : amis ou ennemis -&nbsp\;Rdv devant la ferme de la Rouge Porte (2209
  chemin du Hel – Comines)\nMercredi 14 août de 14h à 16h - Les Oiseaux des
  plaines Circuit des Becques -Rdv devant la ferme hélicicole (1447 chemin 
 de l’Apothicaire – Comines)\nMercredi 21 août de 14h à 16h - À La découver
 te de la faune aquatique -&nbsp\;Rdv Chemin du Frioul pour se rendre sur l
 es bords de Lys\nMercredi 28 août de 14h à 16h - Plantes et insectes - Les
  Oiseaux des plaines Circuit des Becques -&nbsp\;Rdv devant la ferme hélic
 icole (1447 chemin de l’Apothicaire – Comines)\nVendredi 30 aôut de 20h à 
 22h - C'est Chouette la nuit ! Circuit des chouettes - Rdv à l'église Ste 
 marguerite - Comines\nMercredi 11 septembre de 14h à 16h - Les Oiseaux des
  plaines - Rdv devant la ferme de la Rouge Porte (2209 chemin du Hel – Com
 ines)\nMercredi 23 octobre de 14h à 16h - Sur les traces de la biodiversit
 é des bords de Lys -&nbsp\;Rdv devant la Maison du Patrimoine (4/6 rue du 
 Pont à Comines)\nEn partenariat avec la Maison de l’Eau\, de la pêche et d
 e la nature\n&nbsp\;
DTSTART:20240731T100000Z
DTEND:20240731T100000Z
GEO:00;0
LOCATION:
ORGANIZER:
SEQUENCE:1
SUMMARY:Sorties nature sur le thème de la faune et la flore
TRANSP:OPAQUE
URL:https://ville-comines.fr/decouvrir-la-ville/agenda/758-sorties-nature-2
 024/2024-07-31-12-00
END:VEVENT
END:VCALENDAR
